BEGIN:VCALENDAR
VERSION:2.0
PRODID:-//eventon.com NONSGML v1.0//EN
CALSCALE:GREGORIAN
METHOD:PUBLISH
BEGIN:VEVENT
UID:69e5e050b3a9e
DTSTAMP:20260420T081408Z
DTSTART:20140614T130000Z
DTEND:20140614T180000Z
LOCATION:
SUMMARY:Father's Day Fishing Frenzy
DESCRIPTION:Join us on Saturday for a fishing frenzy.  Prizes will be awar
 ded in several categories.  Sign up in the office to enter.\nhttps://sea-p
 irate.com/events/fathers-day-fishing-frenzy/
URL:https://sea-pirate.com/events/fathers-day-fishing-frenzy/
END:VEVENT
END:VCALENDAR