BEGIN:VCALENDAR
VERSION:2.0
PRODID:-//eventon.com NONSGML v1.0//EN
CALSCALE:GREGORIAN
METHOD:PUBLISH
BEGIN:VEVENT
UID:69e8e78a0bf14
DTSTAMP:20260422T152146Z
DTSTART:20261016T112900Z
DTEND:20261018T112900Z
LOCATION:
SUMMARY:Campers Vs. Staff Weekend
DESCRIPTION:It&#8217;s time for competition! Who will win: campers or staff
 ? Main Event: Campers Vs. Staff Day Friday 10/16 Jumping Pillow 6:00 pm &#8
 211; 8:00 pm Wristbands must be worn and will be checked! Hayride and Meet 
 Kiwi 8:20 pm &#8211; 9:00 pm Head over to the office to see Sea[..]\nhttps:
 //sea-pirate.com/events/fall-bonus-weekend-1/
URL:https://sea-pirate.com/events/fall-bonus-weekend-1/
END:VEVENT
END:VCALENDAR