BEGIN:VCALENDAR
VERSION:2.0
PRODID:-//eventon.com NONSGML v1.0//EN
CALSCALE:GREGORIAN
METHOD:PUBLISH
BEGIN:VEVENT
UID:69e8fb8e7b18f
DTSTAMP:20260422T164710Z
DTSTART:20261023T223800Z
DTEND:20261025T223800Z
LOCATION:
SUMMARY:Closing Weekend
DESCRIPTION:One last weekend for the 2026 season! Thank you for camping her
 e! Main Event: Bingo Friday 10/23 Jumping Pillow 6:00 pm &#8211; 8:00 pm Wr
 istbands must be worn and will be checked! Hayride and Meet Kiwi 8:20 pm &#
 8211; 9:00 pm Head over to the office to see Sea Pirate’s[..]\nhttps://se
 a-pirate.com/events/closing-weekend/
URL:https://sea-pirate.com/events/closing-weekend/
END:VEVENT
END:VCALENDAR