BEGIN:VCALENDAR
VERSION:2.0
PRODID:-//eventon.com NONSGML v1.0//EN
CALSCALE:GREGORIAN
METHOD:PUBLISH
BEGIN:VEVENT
UID:69e8e78f40c21
DTSTAMP:20260422T152151Z
DTSTART:20261003T010000Z
DTEND:20261005T000000Z
LOCATION:
SUMMARY:Haunted Trail Halloween #1
DESCRIPTION:Sea Pirate&#8217;s annual Haunted Trail starts this weekend! Ma
 in Event: Haunted Trail Friday 10/02 Jumping Pillow 6:00 pm &#8211; 7:30 pm
  Wristbands must be worn and will be checked! Haunted Pumpkin Patch 8:00 pm
  &#8211; 9:00 pm Meet on the field by the pool and pick out the best pumpki
 n[..]\nhttps://sea-pirate.com/events/haunted-trail-halloween-2/
URL:https://sea-pirate.com/events/haunted-trail-halloween-2/
END:VEVENT
END:VCALENDAR