BEGIN:VCALENDAR
VERSION:2.0
PRODID:-//eventon.com NONSGML v1.0//EN
CALSCALE:GREGORIAN
METHOD:PUBLISH
BEGIN:VEVENT
UID:69e8e789dfc36
DTSTAMP:20260422T152145Z
DTSTART:20261010T010000Z
DTEND:20261013T000000Z
LOCATION:
SUMMARY:Haunted Trail Weekend #2
DESCRIPTION:Embark on Sea Pirate&#8217;s Haunted Trail if you dare&#8230; M
 ain Event: Haunted Trail Friday 10/09 Jumping Pillow 6:00 pm &#8211; 7:30 p
 m Wristbands must be worn and will be checked! Haunted Pumpkin Patch 8:00 p
 m &#8211; 9:00 pm Meet on the field by the pool and pick out the best[..]\n
 https://sea-pirate.com/events/haunted-hayride-halloween-3/
URL:https://sea-pirate.com/events/haunted-hayride-halloween-3/
END:VEVENT
END:VCALENDAR