BEGIN:VCALENDAR
VERSION:2.0
PRODID:-//eventon.com NONSGML v1.0//EN
CALSCALE:GREGORIAN
METHOD:PUBLISH
BEGIN:VEVENT
UID:69e8e7e10dc85
DTSTAMP:20260422T152313Z
DTSTART:20260926T010000Z
DTEND:20260928T000000Z
LOCATION:
SUMMARY:Family Friendly Halloween
DESCRIPTION:Join the first weekend of Halloween fun! Main Event: Halloween 
 Party Friday 09/25 Jumping Pillow 6:00 pm &#8211; 7:30 pm Wristbands must b
 e worn and will be checked! Pumpkin Patch 8:00 pm &#8211; 9:00 pm Meet on t
 he field by the pool and pick out the best pumpkin to paint[..]\nhttps://se
 a-pirate.com/events/family-friendly-halloween-4/
URL:https://sea-pirate.com/events/family-friendly-halloween-4/
END:VEVENT
END:VCALENDAR