BEGIN:VCALENDAR
VERSION:2.0
PRODID:-//eventon.com NONSGML v1.0//EN
CALSCALE:GREGORIAN
METHOD:PUBLISH
BEGIN:VEVENT
UID:69e5f09dad678
DTSTAMP:20260420T092341Z
DTSTART:20260919T010000Z
DTEND:20260921T000000Z
LOCATION:
SUMMARY:Crab Fest Weekend
DESCRIPTION:Join us for our annual Crab Fest for 2026! Main Event: Crab Fes
 t Friday 09/18 Jumping Pillow 6:00 pm &#8211; 8:00 pm Wristbands must be wo
 rn and will be checked! Hayride and Meet Kiwi 8:20 pm &#8211; 9:00 pm Head 
 over to the office to see Sea Pirate’s mascot\,  Kiwi\, [..]\nhttps://sea
 -pirate.com/events/crab-fest-weekend-6/
URL:https://sea-pirate.com/events/crab-fest-weekend-6/
END:VEVENT
END:VCALENDAR