BEGIN:VCALENDAR
VERSION:2.0
PRODID:-//eventon.com NONSGML v1.0//EN
CALSCALE:GREGORIAN
METHOD:PUBLISH
BEGIN:VEVENT
UID:69e8fb8dd7ae3
DTSTAMP:20260422T164709Z
DTSTART:20260912T010000Z
DTEND:20260914T000000Z
LOCATION:
SUMMARY:Pet Weekend
DESCRIPTION:Our first weekend of activities for the fall is dedicated to pe
 ts! Main Event: Pet Swim Friday 09/11 Jumping Pillow 6:00 pm &#8211; 8:00 p
 m Wristbands must be worn and will be checked! Hayride and Meet Kiwi 8:20 p
 m &#8211; 9:00 pm Head over to the office to see Sea[..]\nhttps://sea-pirat
 e.com/events/pet-weekend-2/
URL:https://sea-pirate.com/events/pet-weekend-2/
END:VEVENT
END:VCALENDAR