BEGIN:VCALENDAR
VERSION:2.0
PRODID:-//eventon.com NONSGML v1.0//EN
CALSCALE:GREGORIAN
METHOD:PUBLISH
BEGIN:VEVENT
UID:69e8fbb56dc0a
DTSTAMP:20260422T164749Z
DTSTART:20260901T010000Z
DTEND:20260908T000000Z
LOCATION:
SUMMARY:Labor Day Weekend
DESCRIPTION:Have some fun in the sun for our last full week of activities f
 or the season! Main Events: USA Themed Golf Cart Contest\,  Event Horizon B
 and\,  &amp; Red\,  White\,  and Blue Party Monday 08/31 Jumping Pillow 10:
 00 am &#8211; 11:00 am Wristbands must be worn and will be checked! Candy[.
 .]\nhttps://sea-pirate.com/events/labor-day-weekend-7/
URL:https://sea-pirate.com/events/labor-day-weekend-7/
END:VEVENT
END:VCALENDAR