BEGIN:VCALENDAR
VERSION:2.0
PRODID:-//eventon.com NONSGML v1.0//EN
CALSCALE:GREGORIAN
METHOD:PUBLISH
BEGIN:VEVENT
UID:69e8fdfa10045
DTSTAMP:20260422T165730Z
DTSTART:20260728T010000Z
DTEND:20260803T000000Z
LOCATION:
SUMMARY:Reptile Week
DESCRIPTION:Lions\,  and tigers\,  and&#8230;snakes? Oh my! Get ready for a
  week of embracing reptiles! Main Events: Reptile Show and BugHunters Rock 
 Band Monday 07/27 Jumping Pillow 10:00 am &#8211; 11:00 am Wristbands must 
 be worn and will be checked! Candy Bar Bingo 11:30 am &#8211; 12:30 pm Meet
  in the[..]\nhttps://sea-pirate.com/events/magic-science-week-6/
URL:https://sea-pirate.com/events/magic-science-week-6/
END:VEVENT
END:VCALENDAR