BEGIN:VCALENDAR
VERSION:2.0
PRODID:-//eventon.com NONSGML v1.0//EN
CALSCALE:GREGORIAN
METHOD:PUBLISH
BEGIN:VEVENT
UID:69e8fb9b35d19
DTSTAMP:20260422T164723Z
DTSTART:20260810T180000Z
DTEND:20260816T170000Z
LOCATION:
SUMMARY:Color Run Week
DESCRIPTION:Get ready for a colorful week of activities\,  including the fa
 mous Color Run! Main Event: Color Run and Movie at the Pool Monday 08/10 Ju
 mping Pillow 10:00 am &#8211; 11:00 am Wristbands must be worn and will be 
 checked! Candy Bar Bingo 11:30 am &#8211; 12:30 pm Meet in the[..]\nhttps:/
 /sea-pirate.com/events/superheros-weekend/
URL:https://sea-pirate.com/events/superheros-weekend/
END:VEVENT
END:VCALENDAR