BEGIN:VCALENDAR
VERSION:2.0
PRODID:-//eventon.com NONSGML v1.0//EN
CALSCALE:GREGORIAN
METHOD:PUBLISH
BEGIN:VEVENT
UID:69e8fb9c09127
DTSTAMP:20260422T164724Z
DTSTART:20260804T010000Z
DTEND:20260810T000000Z
LOCATION:
SUMMARY:Beach Party Week
DESCRIPTION:Rock on\,  my dudes! This week\,  we&#8217;ll soak up more sun 
 and feel like we&#8217;re on the beach! Main Events: Under the Sea Themed B
 ike Contest\,  Bob McArthur’s Boat Regatta\,  and Pacific Island Dancers 
 Monday 08/03 Jumping Pillow 10:00 am &#8211; 11:00 am Wristbands must be wo
 rn and will be[..]\nhttps://sea-pirate.com/events/beach-party-weekend-2/
URL:https://sea-pirate.com/events/beach-party-weekend-2/
END:VEVENT
END:VCALENDAR