BEGIN:VCALENDAR
VERSION:2.0
PRODID:-//eventon.com NONSGML v1.0//EN
CALSCALE:GREGORIAN
METHOD:PUBLISH
BEGIN:VEVENT
UID:69e8fb444f7eb
DTSTAMP:20260422T164556Z
DTSTART:20260707T010000Z
DTEND:20260713T000000Z
LOCATION:
SUMMARY:Wild West Week
DESCRIPTION:Cue in the tubbleweeds and sheriff badges! Get ready for a rowd
 y week of activities\,  partners! Main Event: South 47 Band Monday 07/06 Ju
 mping Pillow 10:00 am &#8211; 11:00 am Wristbands must be worn and will be 
 checked! Candy Bar Bingo 11:30 am &#8211; 12:30 pm Meet in the Treasure[..]
 \nhttps://sea-pirate.com/events/wild-west-weekend-3/
URL:https://sea-pirate.com/events/wild-west-weekend-3/
END:VEVENT
END:VCALENDAR