BEGIN:VCALENDAR
VERSION:2.0
PRODID:-//eventon.com NONSGML v1.0//EN
CALSCALE:GREGORIAN
METHOD:PUBLISH
BEGIN:VEVENT
UID:69e8fe42a3e51
DTSTAMP:20260422T165842Z
DTSTART:20260630T010000Z
DTEND:20260706T000000Z
LOCATION:
SUMMARY:Celebrate America
DESCRIPTION:Join us as we host activities themed red\,  white\,  and blue a
 nd have our annual gift auction! Main Event: Gift Auction Monday 06/29 Jump
 ing Pillow 10:00 am &#8211; 11:00 am Wristbands must be worn and will be ch
 ecked! Candy Bar Bingo 11:30 am &#8211; 12:30 pm Meet in the Treasure[..]\n
 https://sea-pirate.com/events/celebrate-america-4/
URL:https://sea-pirate.com/events/celebrate-america-4/
END:VEVENT
END:VCALENDAR