BEGIN:VCALENDAR
VERSION:2.0
PRODID:-//eventon.com NONSGML v1.0//EN
CALSCALE:GREGORIAN
METHOD:PUBLISH
BEGIN:VEVENT
UID:69e8fb8dd7ad7
DTSTAMP:20260422T164709Z
DTSTART:20260620T010000Z
DTEND:20260622T000000Z
LOCATION:
SUMMARY:Father’s Day Weekend
DESCRIPTION:This weekend is all about Dad! Main Event: Educational Beer Tas
 ting and Axe-Throwing Friday 06/19 Jumping Pillow 6:00 pm &#8211; 8:00 pm W
 ristbands must be worn and will be checked! Hayride and Meet Kiwi 8:20 pm &
 #8211; 9:00 pm Head over to the office to see Sea Pirate’s mascot\,  Kiwi
 \, [..]\nhttps://sea-pirate.com/events/fathers-day-fishing-frenzy-5/
URL:https://sea-pirate.com/events/fathers-day-fishing-frenzy-5/
END:VEVENT
END:VCALENDAR