BEGIN:VCALENDAR
VERSION:2.0
PRODID:-//eventon.com NONSGML v1.0//EN
CALSCALE:GREGORIAN
METHOD:PUBLISH
BEGIN:VEVENT
UID:69e8fb9b83858
DTSTAMP:20260422T164723Z
DTSTART:20260530T010000Z
DTEND:20260601T000000Z
LOCATION:
SUMMARY:Classic and Antique Car Show Weekend
DESCRIPTION:A Sea Pirate classic! Get it? Enjoy this Saturday looking at ol
 d and new cars! Main Event: Classic and Antique Car Show Friday 05/29 Jumpi
 ng Pillow 6:00 pm &#8211; 8:00 pm Wristbands must be worn and will be check
 ed! Hayride and Meet Kiwi 8:20 pm &#8211; 9:00 pm Head over[..]\nhttps://se
 a-pirate.com/events/classic-and-antique-car-show-5/
URL:https://sea-pirate.com/events/classic-and-antique-car-show-5/
END:VEVENT
END:VCALENDAR