BEGIN:VCALENDAR
VERSION:2.0
PRODID:-//eventon.com NONSGML v1.0//EN
CALSCALE:GREGORIAN
METHOD:PUBLISH
BEGIN:VEVENT
UID:69e8fb44ca1af
DTSTAMP:20260422T164556Z
DTSTART:20260523T010000Z
DTEND:20260526T000000Z
LOCATION:
SUMMARY:Memorial Day Weekend
DESCRIPTION:The first three-day weekend of the season! We have lots of acti
 vites in store for this weekend! Main Event: South 47 Country Band &amp; Li
 ne Dancing Friday 05/22 Jumping Pillow 6:00 pm &#8211; 8:00 pm Wristbands m
 ust be worn and will be checked! Hayride and Meet Kiwi 8:20 pm &#8211;[..]\
 nhttps://sea-pirate.com/events/memorial-day-weekend-8/
URL:https://sea-pirate.com/events/memorial-day-weekend-8/
END:VEVENT
END:VCALENDAR