BEGIN:VCALENDAR
VERSION:2.0
PRODID:-//eventon.com NONSGML v1.0//EN
CALSCALE:GREGORIAN
METHOD:PUBLISH
BEGIN:VEVENT
UID:69e8e7834bf24
DTSTAMP:20260422T152139Z
DTSTART:20260502T010000Z
DTEND:20260504T000000Z
LOCATION:
SUMMARY:Customer Appreciation Weekend
DESCRIPTION:This weekend\,  we dedicate it to our amazing customers! Thank 
 you for camping with us! Main Event: Sea Pirate Potluck and Free Ice Cream 
 (see below for details) Friday 05/01 Jumping Pillow 6:00 pm &#8211; 8:00 pm
  Wristbands must be worn and will be checked! Hayride and Meet Kiwi 8:20[..
 ]\nhttps://sea-pirate.com/events/customer-appreciation-weekend-5/
URL:https://sea-pirate.com/events/customer-appreciation-weekend-5/
END:VEVENT
END:VCALENDAR