BEGIN:VCALENDAR
VERSION:2.0
PRODID:-//eventon.com NONSGML v1.0//EN
CALSCALE:GREGORIAN
METHOD:PUBLISH
BEGIN:VEVENT
UID:69e8e7e659798
DTSTAMP:20260422T152318Z
DTSTART:20260425T010000Z
DTEND:20260427T000000Z
LOCATION:
SUMMARY:Opening Weekend
DESCRIPTION:This weekend\,  we kick off the start of the 2026 camping seaso
 n! Welcome back! Main Event: Bingo Friday 04/24 Jumping Pillow 6:00 pm &#82
 11; 8:00 pm Wristbands must be worn and will be checked! Hayride and Meet K
 iwi 8:20 pm &#8211; 9:00 pm Head over to the office to see[..]\nhttps://sea
 -pirate.com/events/opening-weekend-6/
URL:https://sea-pirate.com/events/opening-weekend-6/
END:VEVENT
END:VCALENDAR