BEGIN:VCALENDAR
VERSION:2.0
PRODID:-//eventon.com NONSGML v1.0//EN
CALSCALE:GREGORIAN
METHOD:PUBLISH
BEGIN:VEVENT
UID:69e5265e85043
DTSTAMP:20260419T190046Z
DTSTART:20180723T180000Z
DTEND:20180730T030000Z
LOCATION:
SUMMARY:Wild West Week
DESCRIPTION:Celebrate the Wild West with a ride on the mechanical bull Satu
 rday afternoon.  Live music on the pool deck Saturday afternoon. Join us S
 aturday night to listen to the music of “40 North”\,  and a pulled pork
  dinner in Queen Ann’s Galley. Check out the classic and antique cars at[
 ..]\nhttps://sea-pirate.com/events/wild-west-week/
URL:https://sea-pirate.com/events/wild-west-week/
END:VEVENT
END:VCALENDAR