BEGIN:VCALENDAR
VERSION:2.0
PRODID:-//eventon.com NONSGML v1.0//EN
CALSCALE:GREGORIAN
METHOD:PUBLISH
BEGIN:VEVENT
UID:69e738ef52b54
DTSTAMP:20260421T084431Z
DTSTART:20210802T130000Z
DTEND:20210809T020000Z
LOCATION:
SUMMARY:Wild West Week
DESCRIPTION:Celebrate the Wild West with a ride on the mechanical bull Satu
 rday from 10am-1pm.  There will also be live music on the pool deck Saturd
 ay afternoon. Join us Saturday night to listen to the music of “40 North
  and a Prime Rib dinner in Queen Ann’s Galley. Check out the[..]\nhttps
 ://sea-pirate.com/events/wild-west-week-4/
URL:https://sea-pirate.com/events/wild-west-week-4/
END:VEVENT
END:VCALENDAR