BEGIN:VCALENDAR
VERSION:2.0
PRODID:-//eventon.com NONSGML v1.0//EN
CALSCALE:GREGORIAN
METHOD:PUBLISH
BEGIN:VEVENT
UID:69eba1c77a5ef
DTSTAMP:20260424T170055Z
DTSTART:20170805T050000Z
DTEND:20170805T050000Z
LOCATION:
SUMMARY:Wet and Wild Weekend
DESCRIPTION:Save all of your cardboard for our fourth annual Cardboard Duct
  Tape Boat Regatta.  Check with the office for details.  On Saturday ther
 e will be a clam bake in Queen Ann&#8217;s Galley with Karaoke on the pool 
 deck.  Enjoy the big Kahuna water slide and the wet and wild hayride.[..]\
 nhttps://sea-pirate.com/events/wet-wild-weekend-3/
URL:https://sea-pirate.com/events/wet-wild-weekend-3/
END:VEVENT
END:VCALENDAR