BEGIN:VCALENDAR
VERSION:2.0
PRODID:-//eventon.com NONSGML v1.0//EN
CALSCALE:GREGORIAN
METHOD:PUBLISH
BEGIN:VEVENT
UID:69eb05609c0eb
DTSTAMP:20260424T055336Z
DTSTART:20170729T050000Z
DTEND:20170729T050000Z
LOCATION:
SUMMARY:Wild West Weekend
DESCRIPTION:Monday 10am Candy Bar Bingo at the Swashbuckler’s Hall\,  one
  candy bar per board\,  candy must be purchased in advance. 11:30am Create 
 Your Own Arrowhead Necklaces\,  meet at the Treasure Room (fee). 1pm Horses
 hoe’s\,  meet on the field. 2pm Tug of War\,  meet on the field. 3pm Bean
  Bag Boot[..]\nhttps://sea-pirate.com/events/wild-west-weekend-2/
URL:https://sea-pirate.com/events/wild-west-weekend-2/
END:VEVENT
END:VCALENDAR